BEGIN:VCALENDAR
VERSION:2.0
PRODID:-//RINGFOTO.de - ECPv6.15.20//NONSGML v1.0//EN
CALSCALE:GREGORIAN
METHOD:PUBLISH
X-WR-CALNAME:RINGFOTO.de
X-ORIGINAL-URL:https://ringfoto.de
X-WR-CALDESC:Veranstaltungen für RINGFOTO.de
REFRESH-INTERVAL;VALUE=DURATION:PT1H
X-Robots-Tag:noindex
X-PUBLISHED-TTL:PT1H
BEGIN:VTIMEZONE
TZID:Europe/Berlin
BEGIN:DAYLIGHT
TZOFFSETFROM:+0100
TZOFFSETTO:+0200
TZNAME:CEST
DTSTART:20230326T010000
END:DAYLIGHT
BEGIN:STANDARD
TZOFFSETFROM:+0200
TZOFFSETTO:+0100
TZNAME:CET
DTSTART:20231029T010000
END:STANDARD
BEGIN:DAYLIGHT
TZOFFSETFROM:+0100
TZOFFSETTO:+0200
TZNAME:CEST
DTSTART:20240331T010000
END:DAYLIGHT
BEGIN:STANDARD
TZOFFSETFROM:+0200
TZOFFSETTO:+0100
TZNAME:CET
DTSTART:20241027T010000
END:STANDARD
BEGIN:DAYLIGHT
TZOFFSETFROM:+0100
TZOFFSETTO:+0200
TZNAME:CEST
DTSTART:20250330T010000
END:DAYLIGHT
BEGIN:STANDARD
TZOFFSETFROM:+0200
TZOFFSETTO:+0100
TZNAME:CET
DTSTART:20251026T010000
END:STANDARD
END:VTIMEZONE
BEGIN:VEVENT
DTSTART;TZID=Europe/Berlin:20240605T120000
DTEND;TZID=Europe/Berlin:20240605T120000
DTSTAMP:20260420T030002
CREATED:20240624T063627Z
LAST-MODIFIED:20240715T092414Z
UID:10000112-1717588800-1717588800@ringfoto.de
SUMMARY:Einfach Filmen mit der Systemkamera
DESCRIPTION:LOCATION: Fürth\nTEILNEHMER: 12\nKOSTEN: 149\,00 €\nTrainer: Michael Nagel
URL:https://ringfoto.de/events/einfach-filmen-mit-der-systemkamera/
LOCATION:RINGFOTO headquarter\, Benno-Strauß-Str. 39\, Fürth\, Bayern\, 90763\, Germany
END:VEVENT
END:VCALENDAR