BEGIN:VCALENDAR
VERSION:2.0
PRODID:-//RINGFOTO.de - ECPv6.15.20//NONSGML v1.0//EN
CALSCALE:GREGORIAN
METHOD:PUBLISH
X-ORIGINAL-URL:https://ringfoto.de
X-WR-CALDESC:Veranstaltungen für RINGFOTO.de
REFRESH-INTERVAL;VALUE=DURATION:PT1H
X-Robots-Tag:noindex
X-PUBLISHED-TTL:PT1H
BEGIN:VTIMEZONE
TZID:Europe/Berlin
BEGIN:DAYLIGHT
TZOFFSETFROM:+0100
TZOFFSETTO:+0200
TZNAME:CEST
DTSTART:20230326T010000
END:DAYLIGHT
BEGIN:STANDARD
TZOFFSETFROM:+0200
TZOFFSETTO:+0100
TZNAME:CET
DTSTART:20231029T010000
END:STANDARD
BEGIN:DAYLIGHT
TZOFFSETFROM:+0100
TZOFFSETTO:+0200
TZNAME:CEST
DTSTART:20240331T010000
END:DAYLIGHT
BEGIN:STANDARD
TZOFFSETFROM:+0200
TZOFFSETTO:+0100
TZNAME:CET
DTSTART:20241027T010000
END:STANDARD
BEGIN:DAYLIGHT
TZOFFSETFROM:+0100
TZOFFSETTO:+0200
TZNAME:CEST
DTSTART:20250330T010000
END:DAYLIGHT
BEGIN:STANDARD
TZOFFSETFROM:+0200
TZOFFSETTO:+0100
TZNAME:CET
DTSTART:20251026T010000
END:STANDARD
END:VTIMEZONE
BEGIN:VEVENT
DTSTART;TZID=Europe/Berlin:20240122T120000
DTEND;TZID=Europe/Berlin:20240124T120000
DTSTAMP:20260420T030240
CREATED:20231009T094228Z
LAST-MODIFIED:20231214T154349Z
UID:10000015-1705924800-1706097600@ringfoto.de
SUMMARY:RINGFOTO ProVideo-Offensive Intensivschulung
DESCRIPTION:Trends & Training\nLOCATION: Fürth\nTEILNEHMER: 12\nANMELDUNG: Martin Wagner \nWas erwartet Euch bei dieser Schulung:\nDie Schulung exklusiv für die Teilnehmer an der RINGFOTO ProVideo-Offensive! Von Montag Mittag bis Mittwochmittag intensive Schulung rund um das Thema Video: Kameras\, Objektive\, Licht\, Ton und weiteres Zubehör wird – natürlich mit großem Praxisanteil – durchgenommen für bessere Verkäufe\, sicheres Beraten und mehr Spaß an Video. \n\n\n\n\n\n\nSie sehen gerade einen Platzhalterinhalt von YouTube. Um auf den eigentlichen Inhalt zuzugreifen\, klicken Sie auf die Schaltfläche unten. Bitte beachten Sie\, dass dabei Daten an Drittanbieter weitergegeben werden. \n Mehr Informationen \n Inhalt entsperren Erforderlichen Service akzeptieren und Inhalte entsperren
URL:https://ringfoto.de/events/creator-offensive-intensivschulung-2/
LOCATION:RINGFOTO headquarter\, Benno-Strauß-Str. 39\, Fürth\, Bayern\, 90763\, Germany
CATEGORIES:RINGFOTO ACADEMY
ORGANIZER;CN="Martin Wagner":MAILTO:mwagner@ringfoto.de
END:VEVENT
BEGIN:VEVENT
DTSTART;TZID=Europe/Berlin:20240124T120000
DTEND;TZID=Europe/Berlin:20240125T120000
DTSTAMP:20260420T030240
CREATED:20231009T093537Z
LAST-MODIFIED:20240715T092114Z
UID:10000011-1706097600-1706184000@ringfoto.de
SUMMARY:Grundlagen der Fotografie für Quereinsteiger und Azubis
DESCRIPTION:Trends & Training\nLOCATION: Fürth\nTEILNEHMER: 12\nANMELDUNG: Martin Wagner \nWas erwartet Euch bei dieser Schulung:\nDieser kompakte „Rundumschlag“ vermittelt in wenigen Stunden die Grundlagen für erfolgreiches Verkaufen im Fotohandel. Behandelt werden Themen wie: fotografische Grundbegriffe\, fototechnische Grundlagen\, digitale Grundlagen\, verschiedene Kamerasysteme und übergreifende Kamerafunktionen\, wichtiges Zubehör\, etc. \nTrainer: Michael Nagel\, Photo+Medienforum Kiel \n\n\n\n\n\n\nSie sehen gerade einen Platzhalterinhalt von YouTube. Um auf den eigentlichen Inhalt zuzugreifen\, klicken Sie auf die Schaltfläche unten. Bitte beachten Sie\, dass dabei Daten an Drittanbieter weitergegeben werden. \n Mehr Informationen \n Inhalt entsperren Erforderlichen Service akzeptieren und Inhalte entsperren \n \n \n\n 
URL:https://ringfoto.de/events/grundlagen-der-fotografie-fuer-quereinsteiger-und-azubis/
LOCATION:RINGFOTO headquarter\, Benno-Strauß-Str. 39\, Fürth\, Bayern\, 90763\, Germany
CATEGORIES:RINGFOTO ACADEMY
ATTACH;FMTTYPE=image/png:https://ringfoto.de/wp-content/uploads/2023/10/Logo_RINGFOTO_Academy_2024.png
ORGANIZER;CN="Martin Wagner":MAILTO:mwagner@ringfoto.de
END:VEVENT
END:VCALENDAR