BEGIN:VCALENDAR
VERSION:2.0
PRODID:-//RINGFOTO.de - ECPv6.15.20//NONSGML v1.0//EN
CALSCALE:GREGORIAN
METHOD:PUBLISH
X-WR-CALNAME:RINGFOTO.de
X-ORIGINAL-URL:https://ringfoto.de
X-WR-CALDESC:Veranstaltungen für RINGFOTO.de
REFRESH-INTERVAL;VALUE=DURATION:PT1H
X-Robots-Tag:noindex
X-PUBLISHED-TTL:PT1H
BEGIN:VTIMEZONE
TZID:Europe/Berlin
BEGIN:DAYLIGHT
TZOFFSETFROM:+0100
TZOFFSETTO:+0200
TZNAME:CEST
DTSTART:20240331T010000
END:DAYLIGHT
BEGIN:STANDARD
TZOFFSETFROM:+0200
TZOFFSETTO:+0100
TZNAME:CET
DTSTART:20241027T010000
END:STANDARD
BEGIN:DAYLIGHT
TZOFFSETFROM:+0100
TZOFFSETTO:+0200
TZNAME:CEST
DTSTART:20250330T010000
END:DAYLIGHT
BEGIN:STANDARD
TZOFFSETFROM:+0200
TZOFFSETTO:+0100
TZNAME:CET
DTSTART:20251026T010000
END:STANDARD
BEGIN:DAYLIGHT
TZOFFSETFROM:+0100
TZOFFSETTO:+0200
TZNAME:CEST
DTSTART:20260329T010000
END:DAYLIGHT
BEGIN:STANDARD
TZOFFSETFROM:+0200
TZOFFSETTO:+0100
TZNAME:CET
DTSTART:20261025T010000
END:STANDARD
END:VTIMEZONE
BEGIN:VEVENT
DTSTART;TZID=Europe/Berlin:20250303T120000
DTEND;TZID=Europe/Berlin:20250306T123000
DTSTAMP:20260420T121308
CREATED:20241205T124137Z
LAST-MODIFIED:20250428T113922Z
UID:10000131-1741003200-1741264200@ringfoto.de
SUMMARY:Verkaufen als Handwerk und Kunst
DESCRIPTION:Trends & Training\nLOCATION: Fürth\nTEILNEHMER: 12\nKOSTEN: 799\,00 € incl. Hotel & Verpflegung\nANMELDUNG: Martin Wagner\n \nZielgruppe:\nVerkäufer und Verkaufsmitarbeiter\, die ihre Fähigkeiten und Techniken im Verkauf von Imagingprodukten weiterentwickeln möchten. \nBeschreibung:\nVerbessern Sie Ihre verkäuferischen Fähigkeiten und steigern Sie Ihren Erfolg im Verkauf! Unsere umfassende Verkaufsschulung richtet sich an alle Verkäufer\, die ihr Potenzial voll ausschöpfen und ihre Verkaufszahlen nachhaltig erhöhen möchten. \nSchwerpunkte der Schulung:\n1. Bedarfsermittlung: Erlernen Sie Techniken\, um die Bedürfnisse Ihrer Kunden präzise zu erkennen und maßgeschneiderte Lösungen anzubieten.\n2. Reklamation als Chance: Entdecken Sie\, wie Sie aus Reklamationen wertvolle Chancen für Kundenbindung und Verbesserungen im Verkaufsprozess machen können.\n3. Verkaufsgespräche: Verbessern Sie Ihre Kommunikationstechniken\, um Kunden überzeugend zu beraten und erfolgreiche Abschlüsse zu erzielen.\n4. Einwandbehandlung: Entwickeln Sie Strategien\, um Einwände souverän zu meistern und Kunden zu überzeugen.\n5. Verhandlungsführung: Erlernen Sie effektive Verhandlungstechniken\, um auch in schwierigen Verkaufsgesprächen erfolgreich zu sein.\n6. Abschlussstrategien: Maximieren Sie Ihre Abschlussquote durch gezielte Techniken und Methoden. \nIhr Nutzen:\n• Steigerung der persönlichen Verkaufsleistung\n• Erhöhung der Kundenzufriedenheit und -bindung\n• Erlernen praktischer und sofort anwendbarer Techniken\n• Austausch mit anderen Verkaufsprofis und Ausbau des beruflichen Netzwerks
URL:https://ringfoto.de/events/verkaufen-als-handwerk-und-kunst-2/
END:VEVENT
BEGIN:VEVENT
DTSTART;TZID=Europe/Berlin:20250331T120000
DTEND;TZID=Europe/Berlin:20250402T123000
DTSTAMP:20260420T121308
CREATED:20241114T141832Z
LAST-MODIFIED:20241205T140339Z
UID:10000124-1743422400-1743597000@ringfoto.de
SUMMARY:RINGFOTO ProVideo-Offensive Intensivschulung
DESCRIPTION:Trends & Training\nLOCATION: Fürth\nTEILNEHMER: 15\nANMELDUNG: Martin Wagner \nDie Schulung für die Teilnehmer an der RINGFOTO ProVideo-Offensive! Von Montag Mittag bis Mittwochmittag intensive Schulung rund um das Thema Video: Kameras\, Objektive\, Licht\, Ton und weiteres Zubehör wird – natürlich mit großem Praxisanteil – durchgenommen für bessere Verkäufe\, sicheres Beraten und mehr Spaß an Video. \n\n\n\n\n\n\nSie sehen gerade einen Platzhalterinhalt von YouTube. Um auf den eigentlichen Inhalt zuzugreifen\, klicken Sie auf die Schaltfläche unten. Bitte beachten Sie\, dass dabei Daten an Drittanbieter weitergegeben werden. \n Mehr Informationen \n Inhalt entsperren Erforderlichen Service akzeptieren und Inhalte entsperren
URL:https://ringfoto.de/events/ringfoto-provideo-offensive-intensivschulung-10/
END:VEVENT
BEGIN:VEVENT
DTSTART;TZID=Europe/Berlin:20250331T120000
DTEND;TZID=Europe/Berlin:20250402T123000
DTSTAMP:20260420T121308
CREATED:20250225T150253Z
LAST-MODIFIED:20250225T150253Z
UID:10000134-1743422400-1743597000@ringfoto.de
SUMMARY:ContentCreator
DESCRIPTION:Steigern Sie Ihre Umsätze: Seminar für Foto-Händler und Mitarbeiter „Content Creation & Social Media Marketing“ \nTrends & Training\nLOCATION: Fürth\nTEILNEHMER: 15\nANMELDUNG: Martin Wagner \nNutzen Sie das volle Potenzial von YouTube\, Instagram und TikTok\, um mehr Kunden zu erreichen und Ihre Marke zu stärken! In unserem 3-tägigen Seminar lernen Sie\, wie Sie mit professioneller Technik\, kreativen Inhalten und gezielten Social-Media-Strategien Ihre Reichweite ausbauen und so Ihren Umsatz steigern. \n\n\n\n\n\n\nSie sehen gerade einen Platzhalterinhalt von YouTube. Um auf den eigentlichen Inhalt zuzugreifen\, klicken Sie auf die Schaltfläche unten. Bitte beachten Sie\, dass dabei Daten an Drittanbieter weitergegeben werden. \n Mehr Informationen \n Inhalt entsperren Erforderlichen Service akzeptieren und Inhalte entsperren
URL:https://ringfoto.de/events/contentcreator/
END:VEVENT
END:VCALENDAR