BEGIN:VCALENDAR
VERSION:2.0
PRODID:-//RINGFOTO.de - ECPv6.15.20//NONSGML v1.0//EN
CALSCALE:GREGORIAN
METHOD:PUBLISH
X-ORIGINAL-URL:https://ringfoto.de
X-WR-CALDESC:Veranstaltungen für RINGFOTO.de
REFRESH-INTERVAL;VALUE=DURATION:PT1H
X-Robots-Tag:noindex
X-PUBLISHED-TTL:PT1H
BEGIN:VTIMEZONE
TZID:Europe/Berlin
BEGIN:DAYLIGHT
TZOFFSETFROM:+0100
TZOFFSETTO:+0200
TZNAME:CEST
DTSTART:20230326T010000
END:DAYLIGHT
BEGIN:STANDARD
TZOFFSETFROM:+0200
TZOFFSETTO:+0100
TZNAME:CET
DTSTART:20231029T010000
END:STANDARD
BEGIN:DAYLIGHT
TZOFFSETFROM:+0100
TZOFFSETTO:+0200
TZNAME:CEST
DTSTART:20240331T010000
END:DAYLIGHT
BEGIN:STANDARD
TZOFFSETFROM:+0200
TZOFFSETTO:+0100
TZNAME:CET
DTSTART:20241027T010000
END:STANDARD
BEGIN:DAYLIGHT
TZOFFSETFROM:+0100
TZOFFSETTO:+0200
TZNAME:CEST
DTSTART:20250330T010000
END:DAYLIGHT
BEGIN:STANDARD
TZOFFSETFROM:+0200
TZOFFSETTO:+0100
TZNAME:CET
DTSTART:20251026T010000
END:STANDARD
END:VTIMEZONE
BEGIN:VEVENT
DTSTART;TZID=Europe/Berlin:20240304T120000
DTEND;TZID=Europe/Berlin:20240306T120000
DTSTAMP:20260419T174407
CREATED:20231009T095013Z
LAST-MODIFIED:20231214T154307Z
UID:10000030-1709553600-1709726400@ringfoto.de
SUMMARY:RINGFOTO ProVideo-Offensive Intensivschulung
DESCRIPTION:Trends & Training\nLOCATION: Fürth\nTEILNEHMER: 12\nANMELDUNG: Martin Wagner \nDie Schulung exklusiv für die Teilnehmer an der RINGFOTO ProVideo-Offensive! Von Montag Mittag bis Mittwochmittag intensive Schulung rund um das Thema Video: Kameras\, Objektive\, Licht\, Ton und weiteres Zubehör wird – natürlich mit großem Praxisanteil – durchgenommen für bessere Verkäufe\, sicheres Beraten und mehr Spaß an Video. \n\n\n\n\n\n\nSie sehen gerade einen Platzhalterinhalt von YouTube. Um auf den eigentlichen Inhalt zuzugreifen\, klicken Sie auf die Schaltfläche unten. Bitte beachten Sie\, dass dabei Daten an Drittanbieter weitergegeben werden. \n Mehr Informationen \n Inhalt entsperren Erforderlichen Service akzeptieren und Inhalte entsperren
URL:https://ringfoto.de/events/ringfoto-provideo-offensive-intensivschulung-2/
LOCATION:RINGFOTO headquarter\, Benno-Strauß-Str. 39\, Fürth\, Bayern\, 90763\, Germany
CATEGORIES:RINGFOTO ACADEMY
END:VEVENT
BEGIN:VEVENT
DTSTART;TZID=Europe/Berlin:20240313T120000
DTEND;TZID=Europe/Berlin:20240314T120000
DTSTAMP:20260419T174407
CREATED:20231009T095136Z
LAST-MODIFIED:20240715T092201Z
UID:10000017-1710331200-1710417600@ringfoto.de
SUMMARY:„Knöpfchenkunde“\, powered by PMF
DESCRIPTION:Trends & Training\nLOCATION: Fürth\nTEILNEHMER: 12\nANMELDUNG: Martin Wagner \nWas erwartet Euch bei dieser Schulung:\nEin „Spezial“ mit dem Erfolgstrainer Michael Nagel. Er erklärt das von ihm entwickelte und perfektionierte Prinzip\, mit dem Sie schnell und souverän jedes aktuelle Kameramodell bedienen und Ihren Kunden mit einfachen Worten erklären können. Seien Sie gespannt. \nTrainer: Michael Nagel \n\n\n\n\n\n\nSie sehen gerade einen Platzhalterinhalt von YouTube. Um auf den eigentlichen Inhalt zuzugreifen\, klicken Sie auf die Schaltfläche unten. Bitte beachten Sie\, dass dabei Daten an Drittanbieter weitergegeben werden. \n Mehr Informationen \n Inhalt entsperren Erforderlichen Service akzeptieren und Inhalte entsperren
URL:https://ringfoto.de/events/knoepfchenkunde-powered-by-pmf/
LOCATION:RINGFOTO headquarter\, Benno-Strauß-Str. 39\, Fürth\, Bayern\, 90763\, Germany
CATEGORIES:RINGFOTO ACADEMY
ORGANIZER;CN="Martin Wagner":MAILTO:mwagner@ringfoto.de
END:VEVENT
BEGIN:VEVENT
DTSTART;VALUE=DATE:20240318
DTEND;VALUE=DATE:20240319
DTSTAMP:20260419T174407
CREATED:20231009T095408Z
LAST-MODIFIED:20231009T120626Z
UID:10000019-1710720000-1710806399@ringfoto.de
SUMMARY:RINGFOTO Roadshow 2024 - Hannover
DESCRIPTION:LOCATION: Hannover / H4 Hotel Hannover Messe \nMit über 30 Herstellern an vier Standorten kommen wir in Ihre Nähe um Ihnen die neuesten Produkte\, Trends und Angebote zu zeigen – schauen Sie vorbei!
URL:https://ringfoto.de/events/ringfoto-roadshow-2024-hannover/
LOCATION:Hannover\, Germany
CATEGORIES:RINGFOTO MESSE
END:VEVENT
END:VCALENDAR