BEGIN:VCALENDAR
VERSION:2.0
PRODID:-//RINGFOTO.de - ECPv6.15.20//NONSGML v1.0//EN
CALSCALE:GREGORIAN
METHOD:PUBLISH
X-ORIGINAL-URL:https://ringfoto.de
X-WR-CALDESC:Veranstaltungen für RINGFOTO.de
REFRESH-INTERVAL;VALUE=DURATION:PT1H
X-Robots-Tag:noindex
X-PUBLISHED-TTL:PT1H
BEGIN:VTIMEZONE
TZID:Europe/Berlin
BEGIN:DAYLIGHT
TZOFFSETFROM:+0100
TZOFFSETTO:+0200
TZNAME:CEST
DTSTART:20240331T010000
END:DAYLIGHT
BEGIN:STANDARD
TZOFFSETFROM:+0200
TZOFFSETTO:+0100
TZNAME:CET
DTSTART:20241027T010000
END:STANDARD
BEGIN:DAYLIGHT
TZOFFSETFROM:+0100
TZOFFSETTO:+0200
TZNAME:CEST
DTSTART:20250330T010000
END:DAYLIGHT
BEGIN:STANDARD
TZOFFSETFROM:+0200
TZOFFSETTO:+0100
TZNAME:CET
DTSTART:20251026T010000
END:STANDARD
BEGIN:DAYLIGHT
TZOFFSETFROM:+0100
TZOFFSETTO:+0200
TZNAME:CEST
DTSTART:20260329T010000
END:DAYLIGHT
BEGIN:STANDARD
TZOFFSETFROM:+0200
TZOFFSETTO:+0100
TZNAME:CET
DTSTART:20261025T010000
END:STANDARD
BEGIN:DAYLIGHT
TZOFFSETFROM:+0100
TZOFFSETTO:+0200
TZNAME:CEST
DTSTART:20270328T010000
END:DAYLIGHT
BEGIN:STANDARD
TZOFFSETFROM:+0200
TZOFFSETTO:+0100
TZNAME:CET
DTSTART:20271031T010000
END:STANDARD
END:VTIMEZONE
BEGIN:VEVENT
DTSTART;TZID=Europe/Berlin:20250825T100000
DTEND;TZID=Europe/Berlin:20250826T130000
DTSTAMP:20260420T015233
CREATED:20250724T143046Z
LAST-MODIFIED:20250724T143658Z
UID:10000137-1756116000-1756213200@ringfoto.de
SUMMARY:RINGFOTO Drohnenschulung
DESCRIPTION:Trends & Training\nLOCATION: 49163 Bohmte (25 km nordöstlich von Osnabrück)\nTEILNEHMER: 20\nKOSTEN: 249\,- € ohne Übernachtung\nKOSTEN: 349\,- € inkl. einer Übernachtungen und Verpflegung\nKOSTEN: 449;- € inkl. zwei Übernachtungen und Verpflegung\nTrainer: Steffen Heberling und Christian Laxander \nANMELDUNG: sheberling@ringfoto.de \nNachdem wir bereits im Mai dieses Jahres eine wieder sehr erfolgreiche Schulung in Bad Lauterberg im Harz anbieten konnten\, freuen wir uns darauf\, im August dem Norden einen Besuch abstatten und ihnen und ihren Mitarbeitern wieder die Möglichkeit bieten zu können\, sämtliche Produkte der Firma DJI im Rahmen unserer Drohnenschulung selbst zu testen. \nNeben einem theoretisch-rechtlichen Part steht der praktische Aspekt hier klar im Fokus\, sprich: es wird sehr viel geflogen\, um eine Kompetenz bei der Beratung zu bekommen .\nWelches Produkt ist für welchen Kunden geeignet? Wo liegen die Unterschiede bei den Modellen? Welche Versicherungen oder Kompetenznachweise sind notwendig? – dies sind nur einige Fragen\, welche wir bei diesem zweitägigen Kurs klären werden. \n\n\n\n\n\n\nSie sehen gerade einen Platzhalterinhalt von YouTube. Um auf den eigentlichen Inhalt zuzugreifen\, klicken Sie auf die Schaltfläche unten. Bitte beachten Sie\, dass dabei Daten an Drittanbieter weitergegeben werden. \n Mehr Informationen \n Inhalt entsperren Erforderlichen Service akzeptieren und Inhalte entsperren
URL:https://ringfoto.de/events/ringfoto-drohnenschulung-2/
LOCATION:Bayern
END:VEVENT
BEGIN:VEVENT
DTSTART;TZID=Europe/Berlin:20250901T120000
DTEND;TZID=Europe/Berlin:20250904T123000
DTSTAMP:20260420T015233
CREATED:20241205T124244Z
LAST-MODIFIED:20241205T125149Z
UID:10000132-1756728000-1756989000@ringfoto.de
SUMMARY:Verkaufen als Handwerk und Kunst
DESCRIPTION:Trends & Training\nLOCATION: Fürth\nTEILNEHMER: 12\nKOSTEN: 799\,00 € incl. Hotel& Verpflegung\nANMELDUNG: Martin Wagner\n \nZielgruppe:\nVerkäufer und Verkaufsmitarbeiter\, die ihre Fähigkeiten und Techniken im Verkauf von Imagingprodukten weiterentwickeln möchten. \nBeschreibung:\nVerbessern Sie Ihre verkäuferischen Fähigkeiten und steigern Sie Ihren Erfolg im Verkauf! Unsere umfassende Verkaufsschulung richtet sich an alle Verkäufer\, die ihr Potenzial voll ausschöpfen und ihre Verkaufszahlen nachhaltig erhöhen möchten. \nSchwerpunkte der Schulung:\n1. Bedarfsermittlung: Erlernen Sie Techniken\, um die Bedürfnisse Ihrer Kunden präzise zu erkennen und maßgeschneiderte Lösungen anzubieten.\n2. Reklamation als Chance: Entdecken Sie\, wie Sie aus Reklamationen wertvolle Chancen für Kundenbindung und Verbesserungen im Verkaufsprozess machen können.\n3. Verkaufsgespräche: Verbessern Sie Ihre Kommunikationstechniken\, um Kunden überzeugend zu beraten und erfolgreiche Abschlüsse zu erzielen.\n4. Einwandbehandlung: Entwickeln Sie Strategien\, um Einwände souverän zu meistern und Kunden zu überzeugen.\n5. Verhandlungsführung: Erlernen Sie effektive Verhandlungstechniken\, um auch in schwierigen Verkaufsgesprächen erfolgreich zu sein.\n6. Abschlussstrategien: Maximieren Sie Ihre Abschlussquote durch gezielte Techniken und Methoden. \nIhr Nutzen:\n• Steigerung der persönlichen Verkaufsleistung\n• Erhöhung der Kundenzufriedenheit und -bindung\n• Erlernen praktischer und sofort anwendbarer Techniken\n• Austausch mit anderen Verkaufsprofis und Ausbau des beruflichen Netzwerks
URL:https://ringfoto.de/events/verkaufen-als-handwerk-und-kunst-3/
LOCATION:Bayern
END:VEVENT
BEGIN:VEVENT
DTSTART;TZID=Europe/Berlin:20250929T120000
DTEND;TZID=Europe/Berlin:20251001T123000
DTSTAMP:20260420T015233
CREATED:20241114T142138Z
LAST-MODIFIED:20241205T140122Z
UID:10000128-1759147200-1759321800@ringfoto.de
SUMMARY:RINGFOTO ProVideo-Offensive Intensivschulung
DESCRIPTION:Trends & Training\nLOCATION: Fürth\nTEILNEHMER: 15\nANMELDUNG: Martin Wagner \nDie Schulung für die Teilnehmer an der RINGFOTO ProVideo-Offensive! Von Montag Mittag bis Mittwochmittag intensive Schulung rund um das Thema Video: Kameras\, Objektive\, Licht\, Ton und weiteres Zubehör wird – natürlich mit großem Praxisanteil – durchgenommen für bessere Verkäufe\, sicheres Beraten und mehr Spaß an Video. \n\n\n\n\n\n\nSie sehen gerade einen Platzhalterinhalt von YouTube. Um auf den eigentlichen Inhalt zuzugreifen\, klicken Sie auf die Schaltfläche unten. Bitte beachten Sie\, dass dabei Daten an Drittanbieter weitergegeben werden. \n Mehr Informationen \n Inhalt entsperren Erforderlichen Service akzeptieren und Inhalte entsperren
URL:https://ringfoto.de/events/ringfoto-provideo-offensive-intensivschulung-14/
LOCATION:Bayern
END:VEVENT
BEGIN:VEVENT
DTSTART;TZID=Europe/Berlin:20251103T120000
DTEND;TZID=Europe/Berlin:20251105T123000
DTSTAMP:20260420T015233
CREATED:20241114T142306Z
LAST-MODIFIED:20250521T132745Z
UID:10000129-1762171200-1762345800@ringfoto.de
SUMMARY:RINGFOTO ProVideo Streaming und Gimbal
DESCRIPTION:Trends & Training\nLOCATION: Fürth\nTEILNEHMER: 15\nANMELDUNG: Martin Wagner \nDie Schulung für die Teilnehmer an der RINGFOTO ProVideo-Offensive! Von Montag Mittag bis Mittwochmittag intensive Schulung rund um das Thema Video: Kameras\, Objektive\, Licht\, Ton und weiteres Zubehör wird – natürlich mit großem Praxisanteil – durchgenommen für bessere Verkäufe\, sicheres Beraten und mehr Spaß an Video. \n\n\n\n\n\n\nSie sehen gerade einen Platzhalterinhalt von YouTube. Um auf den eigentlichen Inhalt zuzugreifen\, klicken Sie auf die Schaltfläche unten. Bitte beachten Sie\, dass dabei Daten an Drittanbieter weitergegeben werden. \n Mehr Informationen \n Inhalt entsperren Erforderlichen Service akzeptieren und Inhalte entsperren
URL:https://ringfoto.de/events/ringfoto-provideo-offensive-intensivschulung-15/
LOCATION:Bayern
END:VEVENT
BEGIN:VEVENT
DTSTART;TZID=Europe/Berlin:20251105T120000
DTEND;TZID=Europe/Berlin:20251107T123000
DTSTAMP:20260420T015233
CREATED:20250521T132526Z
LAST-MODIFIED:20250521T132526Z
UID:10000136-1762344000-1762518600@ringfoto.de
SUMMARY:RINGFOTO ProVideo Audio & Licht
DESCRIPTION:Trends & Training\nLOCATION: Fürth\nTEILNEHMER: 15\nANMELDUNG: Martin Wagner \nDie Schulung für die Teilnehmer an der RINGFOTO ProVideo-Offensive! Von Montag Mittag bis Mittwochmittag intensive Schulung rund um das Thema Video: Kameras\, Objektive\, Licht\, Ton und weiteres Zubehör wird – natürlich mit großem Praxisanteil – durchgenommen für bessere Verkäufe\, sicheres Beraten und mehr Spaß an Video. \n\n\n\n\n\n\nSie sehen gerade einen Platzhalterinhalt von YouTube. Um auf den eigentlichen Inhalt zuzugreifen\, klicken Sie auf die Schaltfläche unten. Bitte beachten Sie\, dass dabei Daten an Drittanbieter weitergegeben werden. \n Mehr Informationen \n Inhalt entsperren Erforderlichen Service akzeptieren und Inhalte entsperren
URL:https://ringfoto.de/events/ringfoto-provideo-audio-licht/
LOCATION:Bayern
END:VEVENT
BEGIN:VEVENT
DTSTART;TZID=Europe/Berlin:20251117T120000
DTEND;TZID=Europe/Berlin:20251120T123000
DTSTAMP:20260420T015233
CREATED:20241205T124351Z
LAST-MODIFIED:20250428T113825Z
UID:10000133-1763380800-1763641800@ringfoto.de
SUMMARY:Verkaufen als Handwerk und Kunst
DESCRIPTION:Trends & Training\nLOCATION: Fürth\nTEILNEHMER: 12\nKOSTEN: 799\,00 € incl. Hotel & Verpflegung\nANMELDUNG: Martin Wagner\n \nZielgruppe:\nVerkäufer und Verkaufsmitarbeiter\, die ihre Fähigkeiten und Techniken im Verkauf von Imagingprodukten weiterentwickeln möchten. \nBeschreibung:\nVerbessern Sie Ihre verkäuferischen Fähigkeiten und steigern Sie Ihren Erfolg im Verkauf! Unsere umfassende Verkaufsschulung richtet sich an alle Verkäufer\, die ihr Potenzial voll ausschöpfen und ihre Verkaufszahlen nachhaltig erhöhen möchten. \nSchwerpunkte der Schulung:\n1. Bedarfsermittlung: Erlernen Sie Techniken\, um die Bedürfnisse Ihrer Kunden präzise zu erkennen und maßgeschneiderte Lösungen anzubieten.\n2. Reklamation als Chance: Entdecken Sie\, wie Sie aus Reklamationen wertvolle Chancen für Kundenbindung und Verbesserungen im Verkaufsprozess machen können.\n3. Verkaufsgespräche: Verbessern Sie Ihre Kommunikationstechniken\, um Kunden überzeugend zu beraten und erfolgreiche Abschlüsse zu erzielen.\n4. Einwandbehandlung: Entwickeln Sie Strategien\, um Einwände souverän zu meistern und Kunden zu überzeugen.\n5. Verhandlungsführung: Erlernen Sie effektive Verhandlungstechniken\, um auch in schwierigen Verkaufsgesprächen erfolgreich zu sein.\n6. Abschlussstrategien: Maximieren Sie Ihre Abschlussquote durch gezielte Techniken und Methoden. \nIhr Nutzen:\n• Steigerung der persönlichen Verkaufsleistung\n• Erhöhung der Kundenzufriedenheit und -bindung\n• Erlernen praktischer und sofort anwendbarer Techniken\n• Austausch mit anderen Verkaufsprofis und Ausbau des beruflichen Netzwerks
URL:https://ringfoto.de/events/verkaufen-als-handwerk-und-kunst-4/
LOCATION:Bayern
END:VEVENT
BEGIN:VEVENT
DTSTART;TZID=Europe/Berlin:20260427T120000
DTEND;TZID=Europe/Berlin:20260429T123000
DTSTAMP:20260420T015233
CREATED:20260108T085116Z
LAST-MODIFIED:20260108T085116Z
UID:10000138-1777291200-1777465800@ringfoto.de
SUMMARY:RINGFOTO ProVideo-Offensive Intensivschulung
DESCRIPTION:Trends & Training\nLOCATION: Fürth\nTEILNEHMER: 12\nANMELDUNG: Martin Wagner \nDie Schulung für die Teilnehmer an der RINGFOTO ProVideo-Offensive! Von Montag Mittag bis Mittwochmittag intensive Schulung rund um das Thema Video: Kameras\, Objektive\, Licht\, Ton und weiteres Zubehör wird – natürlich mit großem Praxisanteil – durchgenommen für bessere Verkäufe\, sicheres Beraten und mehr Spaß an Video. \n\n\n\n\n\n\nSie sehen gerade einen Platzhalterinhalt von YouTube. Um auf den eigentlichen Inhalt zuzugreifen\, klicken Sie auf die Schaltfläche unten. Bitte beachten Sie\, dass dabei Daten an Drittanbieter weitergegeben werden. \n Mehr Informationen \n Inhalt entsperren Erforderlichen Service akzeptieren und Inhalte entsperren
URL:https://ringfoto.de/events/ringfoto-provideo-offensive-intensivschulung-13/
LOCATION:Bayern
END:VEVENT
BEGIN:VEVENT
DTSTART;TZID=Europe/Berlin:20260504T120000
DTEND;TZID=Europe/Berlin:20260507T123000
DTSTAMP:20260420T015233
CREATED:20260108T085026Z
LAST-MODIFIED:20260108T085026Z
UID:10000139-1777896000-1778157000@ringfoto.de
SUMMARY:Verkäuferschulung - Verkaufen als Handwerk und als Kunst - auch für Quereinsteiger
DESCRIPTION:Trends & Training\nLOCATION: Fürth\nTEILNEHMER: 12\nKOSTEN: 799.00 €\nANMELDUNG: Martin Wagner \nZielgruppe:\nVerkäufer und Verkaufsmitarbeiter\, die ihre Fähigkeiten und Techniken im Verkauf von Imagingprodukten weiterentwickeln möchten. \nBeschreibung:\nVerbessern Sie Ihre verkäuferischen Fähigkeiten und steigern Sie Ihren Erfolg im Verkauf! Unsere umfassende Verkaufsschulung richtet sich an alle Verkäufer\, die ihr Potenzial voll ausschöpfen und ihre Verkaufszahlen nachhaltig erhöhen möchten. \nSchwerpunkte der Schulung: \n\nBedarfsermittlung: Erlernen Sie Techniken\, um die Bedürfnisse Ihrer Kunden präzise zu erkennen und maßgeschneiderte Lösungen anzubieten.\nReklamation als Chance: Entdecken Sie\, wie Sie aus Reklamationen wertvolle Chancen für Kundenbindung und Verbesserungen im Verkaufsprozess machen können.\nVerkaufsgespräche: Verbessern Sie Ihre Kommunikationstechniken\, um Kunden überzeugend zu beraten und erfolgreiche Abschlüsse zu erzielen.\nEinwandbehandlung: Entwickeln Sie Strategien\, um Einwände souverän zu meistern und Kunden zu überzeugen.\nVerhandlungsführung: Erlernen Sie effektive Verhandlungstechniken\, um auch in schwierigen Verkaufsgesprächen erfolgreich zu sein.\nAbschlussstrategien: Maximieren Sie Ihre Abschlussquote durch gezielte Techniken und Methoden.\n\nIhr Nutzen:\n• Steigerung der persönlichen Verkaufsleistung\n• Erhöhung der Kundenzufriedenheit und -bindung\n• Erlernen praktischer und sofort anwendbarer Techniken\n• Austausch mit anderen Verkaufsprofis und Ausbau des beruflichen Netzwerks
URL:https://ringfoto.de/events/verkaeuferschulung-verkaufen-als-handwerk-und-als-kunst-auch-fuer-quereinsteiger/
LOCATION:Bayern
END:VEVENT
BEGIN:VEVENT
DTSTART;TZID=Europe/Berlin:20260511T120000
DTEND;TZID=Europe/Berlin:20260512T130000
DTSTAMP:20260420T015233
CREATED:20260108T084941Z
LAST-MODIFIED:20260327T123716Z
UID:10000140-1778500800-1778590800@ringfoto.de
SUMMARY:Drohnenschulung
DESCRIPTION:Trends & Training\nLOCATION: Bad Lauterberg im Harz\nTEILNEHMER: 15\nANMELDUNG: Martin Wagner \nZiel:\nVerkäufer begeistern\, befähigen eigene Schulungen Vor Ort durchzuführen. Befähigungsnachweis/ Schulung wird durchgeführt\, Kontakt zu Verband der Modellflieger soll Ansprechpartner vor Ort bieten.
URL:https://ringfoto.de/events/kopterschulung-dji-f-verkaeufer-2/
LOCATION:Bayern
END:VEVENT
BEGIN:VEVENT
DTSTART;TZID=Europe/Berlin:20260706T120000
DTEND;TZID=Europe/Berlin:20260708T123000
DTSTAMP:20260420T015233
CREATED:20260108T084843Z
LAST-MODIFIED:20260108T084843Z
UID:10000141-1783339200-1783513800@ringfoto.de
SUMMARY:RINGFOTO ProVideo-Offensive Intensivschulung
DESCRIPTION:Trends & Training\nLOCATION: Fürth\nTEILNEHMER: 12\nANMELDUNG: Martin Wagner \nDie Schulung für die Teilnehmer an der RINGFOTO ProVideo-Offensive! Von Montag Mittag bis Mittwochmittag intensive Schulung rund um das Thema Video: Kameras\, Objektive\, Licht\, Ton und weiteres Zubehör wird – natürlich mit großem Praxisanteil – durchgenommen für bessere Verkäufe\, sicheres Beraten und mehr Spaß an Video.
URL:https://ringfoto.de/events/ringfoto-provideo-offensive-intensivschulung-12/
LOCATION:Bayern
END:VEVENT
BEGIN:VEVENT
DTSTART;TZID=Europe/Berlin:20260831T120000
DTEND;TZID=Europe/Berlin:20260902T123000
DTSTAMP:20260420T015233
CREATED:20260108T084330Z
LAST-MODIFIED:20260108T084330Z
UID:10000143-1788177600-1788352200@ringfoto.de
SUMMARY:ProVideo- Offensive Intensivschulung
DESCRIPTION:Trends & Training\nLOCATION: Fürth\nTEILNEHMER: 12\nANMELDUNG: Martin Wagner \nDie Schulung für die Teilnehmer an der RINGFOTO ProVideo-Offensive! Von Montag Mittag bis Mittwochmittag intensive Schulung rund um das Thema Video: Kameras\, Objektive\, Licht\, Ton und weiteres Zubehör wird – natürlich mit großem Praxisanteil – durchgenommen für bessere Verkäufe\, sicheres Beraten und mehr Spaß an Video. \n\n\n\n\n\n\nSie sehen gerade einen Platzhalterinhalt von YouTube. Um auf den eigentlichen Inhalt zuzugreifen\, klicken Sie auf die Schaltfläche unten. Bitte beachten Sie\, dass dabei Daten an Drittanbieter weitergegeben werden. \n Mehr Informationen \n Inhalt entsperren Erforderlichen Service akzeptieren und Inhalte entsperren
URL:https://ringfoto.de/events/provideo-offensive-intensivschulung/
LOCATION:Bayern
END:VEVENT
BEGIN:VEVENT
DTSTART;TZID=Europe/Berlin:20260907T120000
DTEND;TZID=Europe/Berlin:20260908T130000
DTSTAMP:20260420T015233
CREATED:20260108T084802Z
LAST-MODIFIED:20260327T123620Z
UID:10000142-1788782400-1788872400@ringfoto.de
SUMMARY:Drohnenschulung
DESCRIPTION:Trends & Training\nLOCATION: Süden\, Raum Augsburg\nTEILNEHMER: 15\nANMELDUNG: Martin Wagner \nZiel:\nVerkäufer begeistern\, befähigen eigene Schulungen Vor Ort durchzuführen. Befähigungsnachweis/ Schulung wird durchgeführt\, Kontakt zu Verband der Modellflieger soll Ansprechpartner vor Ort bieten.
URL:https://ringfoto.de/events/kopterschulung-dji-f-verkaeufer/
LOCATION:Bayern
END:VEVENT
END:VCALENDAR