BEGIN:VCALENDAR
VERSION:2.0
PRODID:-//RINGFOTO.de - ECPv6.15.20//NONSGML v1.0//EN
CALSCALE:GREGORIAN
METHOD:PUBLISH
X-WR-CALNAME:RINGFOTO.de
X-ORIGINAL-URL:https://ringfoto.de
X-WR-CALDESC:Veranstaltungen für RINGFOTO.de
REFRESH-INTERVAL;VALUE=DURATION:PT1H
X-Robots-Tag:noindex
X-PUBLISHED-TTL:PT1H
BEGIN:VTIMEZONE
TZID:Europe/Berlin
BEGIN:DAYLIGHT
TZOFFSETFROM:+0100
TZOFFSETTO:+0200
TZNAME:CEST
DTSTART:20230326T010000
END:DAYLIGHT
BEGIN:STANDARD
TZOFFSETFROM:+0200
TZOFFSETTO:+0100
TZNAME:CET
DTSTART:20231029T010000
END:STANDARD
BEGIN:DAYLIGHT
TZOFFSETFROM:+0100
TZOFFSETTO:+0200
TZNAME:CEST
DTSTART:20240331T010000
END:DAYLIGHT
BEGIN:STANDARD
TZOFFSETFROM:+0200
TZOFFSETTO:+0100
TZNAME:CET
DTSTART:20241027T010000
END:STANDARD
BEGIN:DAYLIGHT
TZOFFSETFROM:+0100
TZOFFSETTO:+0200
TZNAME:CEST
DTSTART:20250330T010000
END:DAYLIGHT
BEGIN:STANDARD
TZOFFSETFROM:+0200
TZOFFSETTO:+0100
TZNAME:CET
DTSTART:20251026T010000
END:STANDARD
END:VTIMEZONE
BEGIN:VEVENT
DTSTART;TZID=Europe/Berlin:20241119T120000
DTEND;TZID=Europe/Berlin:20241120T120000
DTSTAMP:20260420T073653
CREATED:20240624T064112Z
LAST-MODIFIED:20240715T091746Z
UID:10000115-1732017600-1732104000@ringfoto.de
SUMMARY:Die bewegte Kamera
DESCRIPTION:Gimbals\, Slider\, Jibs…immer wichtigere Umsatzträger für Sie und tolle Werkzeuge für Ihre Kunden. In alle Ruhe ausprobieren\, einrichten\, Unterschiede herausfinden.\nSprechen Sie Ihren Vertriebsmitarbeiter an! Tipp: gemeinsam mit dem direkt anschließenden Kurs „Streaming\, YouTube&Co.“ buchen und 50\,- sparen! \nLOCATION: Fürth\nTEILNEHMER: 15\nKOSTEN: 149\,00 €\nTrainer: Martin Wagner und Christian Laxander
URL:https://ringfoto.de/events/die-bewegte-kamera/
LOCATION:RINGFOTO headquarter\, Benno-Strauß-Str. 39\, Fürth\, Bayern\, 90763\, Germany
END:VEVENT
END:VCALENDAR